Workbook

Sheet พ101
A1: กรมทางหลวง
A2: แบบรายงานขอซื้อ / จ้าง
A4: เลขที่ | B4: 415/60/70/21
A5: เรื่อง | B5: ขออนุมัติซื้อ/จ้าง | E5: วัสดุก่อสร้าง
A6: เรียน | B6: ผอ. ขท.สมุทรสาคร ผ่าน รอ.ขท.(บ)
B7: เหตุที่ขออนุมัติซื้อ / จ้าง | F7: เพื่อใช้ ในการทาสีบริเวณเกาะกลาง ในทางหลวงหมายเลข 3091 ตอน อ้อมน้อย - สมุทรสาคร
A8: ระหว่าง กม.0+000 - กม.19+851 และในทางหลวงหมายเลข 3651 ตอน แยกสาครเกษม - คลองมะเดื่อ ระหว่าง กม.0+000 -
A9: กม.7+445
C10: ฉะนั้น จึงเรียนมาเพื่อขออนุมัติ ซื้อโดยวิธี | I10: เฉพาะเจาะจง | K10: จัดจ้างโดยวิธี | N10: -
A11: เพราะ | B11: วงเงินอำนาจแขวงฯ | H11: วงเงินที่จะซื้อ / จ้าง | J11: =K56 -> 85240 | M11: บาท
A12: ต้องการใช้พัสดุหรือให้งานนั้นแล้วเสร็จภายใน | G12: 5 | H12: วันทำการ และขอแต่งตั้งคณะกรรมการ ดังนี้
A13: 1 | B13: รอ.ขท.สมุทรสาคร (ป) | H13: ประธานกรรมการ
A14: 2 | B14: ชม.ขท.เศรษฐกิจ | H14: กรรมการ
A15: 3 | B15: นายธีรพล แก่นคลอองใหม่ | H15: กรรมการ
A17: ลำดับที่ | B17: จำนวน | C17: หน่วย | E17: รายการ | I17: ราคาครั้งหลังสุด | L17: ราคาที่สืบทราบ/ประมาณได้
I18: ว.ด.ป | J18: หน่วยละ | L18: หน่วยละ | N18: รวม
A19: 1 | B19: 64 | C19: กป. | E19: สีน้ำพลาสติก สีขาว จุ 3.785 ลิตร มอก.272-2564 | I19: 25510 | J19: 610 | L19: =J19 -> 610 | N19: =L19*B19 -> 39040
A20: 2 | B20: 48 | C20: กป. | E20: สีน้ำพลาสติก สีดำ จุ 3.785 ลิตร มอก.272-2564 | I20: 25510 | J20: 610 | L20: =J20 -> 610 | N20: =L20*B20 -> 29280
A21: 3 | B21: 12 | C21: กป. | E21: สีน้ำพลาสติก สีแดง จุ 3.785 ลิตร มอก.272-2564 | I21: 25510 | J21: 610 | L21: =J21 -> 610 | N21: =L21*B21 -> 7320
A22: 4 | B22: 12 | C22: กป. | E22: สีน้ำพลาสติก สีเหลือง จุ 3.785 ลิตร มอก.272-2564 | I22: 25510 | J22: 610 | L22: =J22 -> 610 | N22: =L22*B22 -> 7320
A23: 5 | B23: 12 | C23: อัน | E23: แปรงทาสี ขนาด 3 นิ้ว | I23: 25510 | J23: 85 | L23: =J23 -> 85 | N23: =L23*B23 -> 1020
A24: 6 | B24: 12 | C24: อัน | E24: แปรงทาสี ขนาด 4 นิ้ว | I24: 25510 | J24: 105 | L24: =J24 -> 105 | N24: =L24*B24 -> 1260
E25: (รวมหกรายการ)
E26: (รวมภาษีมูลค่าเพิ่ม 7%)
A42: ลำดับที่ | B42: จำนวน | C42: หน่วย | E42: รายการ | I42: ราคาครั้งหลังสุด | L42: ราคาที่สืบทราบ/ประมาณได้
I43: ว.ด.ป | J43: หน่วยละ | L43: หน่วยละ | N43: รวม
E56: รวม | F56: =COUNT(B19:B41) -> 6 | I56: รายการ | J56: เป็นเงิน | K56: =SUM(N19:O41) -> 85240 | N56: บาท
B58: (ลงนาม) | J58: 46331
D59: (นางสาวปุณยวีร์ เชิงแก้ว) | J59: วันที่
B60: ตำแหน่ง | D60: นักจัดการงานทั่วไปปฏิบัติการ
A62: รหัสบัญชี
A63: แผน | B63: งาน/ | E63: ศูนย์ต้นทุน | G63: แหล่งของเงิน | H63: กิจกรรมหลัก | L63: รหัสงบประมาณ
A64: งาน | B64: โครงการ
E65: 0800600111 | G65: 7011320 | H65: 08006700211100000 | L65: 08006210006003210143
B66: =SUM(B65:B65) -> 0 | L66: งบบำรุงปกติ
L67: บัญชีแยกประเภท
L68: 5104010107
A70: มีเงินงบประมาณ รอเงินงบประมาณ ตรวจสอบแล้ว เห็นควรดำเนินการต่อไป
B72: (ลงนาม) | H72: (ลงนาม)............................................................. | I72: (ลงนาม)
C73: (นายชาติชาย บุญส่ง) | J73: (นางสาวนรรชรีย์ พานทอง)
A74: ตำแหน่ง รอ.ขท.(บ) เชียงรายที่ 2 | B74: ตำแหน่ง | C74: นักจัดการงานทั่วไปปฏิบัติการ | I74: ตำแหน่ง | J74: รอ.ขท.สมุทรสาคร (บ)
A75: วันที่ | B75: วันที่ | C75: =J58 -> 46331 | I75: วันที่ | J75: =C75 -> 46331
G77: อนุมัติให้ดำเนินการได้
F79: (ลงนาม)
G80: (นายสุปรีชา ฟุ้งกีรติ)
F81: ตำแหน่ง | G81: ผอ.ขท.สมุทรสาคร
F82: วันที่ | G82: =J58 -> 46331

Sheet พ128  
A4: เลขที่ | B4: =พ101!B4 -> 415/60/70/21 | K4: เลขที่ | L4: =B4 -> 415/60/70/21
A5: วันที่ | B5: =พ101!F4 -> 0 | K5: วันที่ | L5: =พ101!J58 -> 46331
A7: ถึง | B7: บริษัท สินชัย 2556 จำกัด | F7: 471 ถ.พุทธมณฑล สาย 1 แขวงบางด้วน เขตภาษีเจริญ กทม. 10160 | K7: ถึง | L7: ร้าน กิตติ์ไพศาล | O7: ที่อยู่ | P7: 6/169 ม.3 ถนนเพชรเกษม 110 แขวงหนองค้างพลู เขตหนองแขม กทม. 10160
A8: อ้างถึง | B8: ตามใบเบิกจ่ายพัสดุ พ.1-02 เลขที่ ลงวันที่ | K8: อ้างถึง
A9: กรมทางหลวงโดย | C9: นายอรรถสิทธิ์ สวัสดิ์พานิช | F9: ตำแหน่ง | G9: ผอ.ขท. สมุทรสาคร | K9: กรมทางหลวงโดย | M9: นายสุปรีชา ฟุ้งกีรติ ตำแหน่ง ผอ.ขท.สมุทรสาคร
A10: ตกลงซื้อ /จ้าง จากท่านซึ่งเป็นราคารวมภาษีมูลค่าเพิ่ม ตลอดจนภาษีอากรอื่นฯ และค่าใช้จ่ายทั้งปวงแล้ว ตามรายการดังต่อไปนี้ | K10: ตกลงซื้อ / จ้าง จากท่านซึ่งเป็นราคารวมภาษีมูลค่าเพิ่ม ตลอดจนภาษีอากรอื่นฯ และค่าใช้จ่ายทั้งปวงแล้ว ตามรายการดังต่อไปนี้
A11: ลำดับที่ | B11: จำนวน | C11: หน่วยนับ | D11: รายการ | I11: ราคา | K11: ลำดับที่ | L11: จำนวน | M11: หน่วยนับ | N11: รายการ | S11: ราคา
I12: หน่วยละ | J12: รวม | S12: หน่วยละ | T12: รวม
K13: =พ101!A19 -> 1 | L13: =พ101!B19 -> 64 | M13: =พ101!C19 -> กป. | N13: =พ101!E19 -> สีน้ำพลาสติก สีขาว จุ 3.785 ลิตร มอก.272-2564 | S13: =พ101!L19 -> 610 | T13: =พ101!N19 -> 39040
K14: =พ101!A20 -> 2 | L14: =พ101!B20 -> 48 | M14: =พ101!C20 -> กป. | N14: =พ101!E20 -> สีน้ำพลาสติก สีดำ จุ 3.785 ลิตร มอก.272-2564 | S14: =พ101!L20 -> 610 | T14: =พ101!N20 -> 29280
K15: =พ101!A21 -> 3 | L15: =พ101!B21 -> 12 | M15: =พ101!C21 -> กป. | N15: =พ101!E21 -> สีน้ำพลาสติก สีแดง จุ 3.785 ลิตร มอก.272-2564 | S15: =พ101!L21 -> 610 | T15: =พ101!N21 -> 7320
K16: =พ101!A22 -> 4 | L16: =พ101!B22 -> 12 | M16: =พ101!C22 -> กป. | N16: =พ101!E22 -> สีน้ำพลาสติก สีเหลือง จุ 3.785 ลิตร มอก.272-2564 | S16: =พ101!L22 -> 610 | T16: =พ101!N22 -> 7320
K17: =พ101!A23 -> 5 | L17: =พ101!B23 -> 12 | M17: =พ101!C23 -> อัน | N17: =พ101!E23 -> แปรงทาสี ขนาด 3 นิ้ว | S17: =พ101!L23 -> 85 | T17: =พ101!N23 -> 1020
K18: =พ101!A24 -> 6 | L18: =พ101!B24 -> 12 | M18: =พ101!C24 -> อัน | N18: =พ101!E24 -> แปรงทาสี ขนาด 4 นิ้ว | S18: =พ101!L24 -> 105 | T18: =พ101!N24 -> 1260
N19: =พ101!E25 -> (รวมหกรายการ)
N20: =พ101!E26 -> (รวมภาษีมูลค่าเพิ่ม 7%)
N26: ="("&BAHTTEXT(T26)&")" -> (แปดหมื่นห้าพันสองร้อยสี่สิบบาทถ้วน) | T26: =SUM(T13:T25) -> 85240
K27: และมีข้อตกลงเกี่ยวกับการซื้อ / การจ้าง ไว้ต่อกันดังนี้
K28: 1. ผู้ขาย / ผู้รับจ้าง ตกลงจะส่งมอบสิ่งของให้แก่กรมทางหลวง ณ แขวงทางหลวงสมุทรสาคร
K29: ภายใน 5 | L29: 5 | M29: วัน ทำการ นับตั้งแต่วันถัดจากวันรับใบสั่ง
K30: 2. ถ้าผู้ขาย / ผู้รับจ้าง ไม่ส่งของหรือส่งของไม่ถูกต้องครบถ้วน ตามรายการและหรือวันเวลาที่กำหนดไว้ตามใบสั่ง กรมทางหลวงมีสิทธิ
K31: บอกเลิกใบสั่งนี้ทั้งหมดหรือแต่บางส่วนได้ และผู้ขาย / ผู้รับจ้าง ยินยอมรับผิดชอบชดใช้ค่าเสียหายอันเกิดจากจากที่ ผู้ขาย / ผู้รับจ้าง ผิดข้อ
K32: ตกลงตามใบสั่ง และหรือราคาที่เพิ่มขึ้นจากราคาที่กำหนดไว้ในข้อตกลงนี้ เนื่องจากการซื้อ / การจ้าง ใหม่ให้แก่กรมทางหลวงโดยสิ้นเชิง
K33: 3. ในกรณีผู้ขาย / ผู้รับจ้าง ส่งของล่วงพ้นกำหนดก็ดี หรือกรมทางหลวงใช้สิทธิบอกเลิกใบสั่ง เมื่อพ้นกำหนดเวลาส่งของ
K34: แล้วก็ดี ผู้ขาย / ผู้รับจ้าง ยินยอมให้กรมทางหลวงปรับเป็นรายวัน ดังต่อไปนี้
L35: 3.1 การซื้อ ในอัตราร้อยละ | N35: 0.2 | O35: ของราคาสิ่งของที่ยังไม่ได้รับมอบ
L36: 3.2 การจ้าง ในอัตราวันละ | N36: - | O36: บาทของค่างาน/ร้อยละ | Q36: - | R36: ของค่างานที่ยังไม่ได้รับมอบ แต่ต้อง
L37: ไม่ต่ำกว่า วันละ 100 บาท
K38: ทั้งนี้นับตั้งแต่วันถัดจากวันครบกำหนดจนถึงวันที่ ผู้ขาย / ผู้รับจ้าง ได้นำสิ่งของส่งให้แก่กรมทางหลวงจนถูกต้องครบถ้วน
K39: และหรือจนถึงวันที่กรมทางหลวงบอกเลิกใบสั่ง
K40: 4. ใบสั่งซื้อ / ใบสั่งจ้าง นี้ทำขึ้นสองฉบับมีข้อความตรงกัน ผู้ซื้อ / ผู้ว่าจ้าง เก็บไว้ 1 ฉบับ และผู้ขาย / ผู้รับจ้าง เก็บไว้ 1 ฉบับ
P42: ได้รับใบสั่งวันที่ | R42: =L5 -> 46331
K44: (ลงนาม)...............................................ผู้ซื้อ / ผู้ว่าจ้าง | Q44: (ลงนาม).............................................ผู้ขาย / ผู้รับจ้าง
K45: =พ101!G80 -> (นายสุปรีชา ฟุ้งกีรติ) | Q45: (นายวสวัท เตชปัญญากูล)
K46: =พ101!G81 -> ผอ.ขท.สมุทรสาคร

Sheet พ128 1
A1: แบบใบตรวจรับพัสดุ
A3: 1. สัญญา / ใบสั่งซื้อ / ใบสั่งจ้าง เลขที่ | I3: =พ101!B4 -> 415/60/70/21 | Q3: ลงวันที่ | S3: =พ101!J58 -> 46331
A4: 2. จัดซื้อ / จัดจ้างโดยวิธี ตกลงราคา | F4: =พ101!I10 -> เฉพาะเจาะจง | J4: ประเภท | L4: =พ101!E5 -> วัสดุก่อสร้าง | P4: ผู้ขาย/ผู้รับจ้าง | S4: ='พ128 '!L7 -> ร้าน กิตติ์ไพศาล
A5: 3. ใบเบิกเลขที่ | E5: 415/60/70/ | N5: ลงวันที่ | P5: =S3 -> 46331
A6: 4. วันสิ้นสุดการส่งมอบพัสดุ | G6: 46338
A7: 5. ตรวจรับแล้วส่งพัสดุไปที่ | G7: แขวงทางหลวงสมุทรสาคร
A8: ส่วนที่ 1 สำหรับคณะกรรมการตรวจรับพัสดุ
A9: คณะกรรมการตรวจรับพัสดุ ได้ทำการตรวจรับพัสดุที่จัดซื้อ / จัดจ้างตามสัญญา / ใบสั่ง ข้างต้นไว้ถูกต้องครบถ้วนแล้ว
J11: มีค่าปรับ | P11: ไม่มีค่าปรับ
E13: ตรวจรับเมื่อวันที่ | I13: 11 | J13: เดือน | L13: พฤศจิกายน | Q13: พ.ศ. | S13: 2569
G15: ลงนาม | P15: ประธานกรรมการตรวจรับพัสดุ
I16: (นายมนตรี วงศ์วิวัฒน์) | P16: ตำแหน่ง | R16: =พ101!B13 -> รอ.ขท.สมุทรสาคร (ป)
A18: ลงนาม | K18: กรรมการ | N18: ลงนาม | X18: กรรมการ
C19: (นายวัชรพล ไชยณรงค์) | P19: ="("&พ101!B15&")" -> (นายธีรพล แก่นคลอองใหม่)
A20: ตำแหน่ง | C20: =พ101!B14 -> ชม.ขท.เศรษฐกิจ | N20: ตำแหน่ง | P20: พนักงานโยธา
A22: ส่วนที่ 2 สำหรับเจ้าหน้าที่พัสดุ
A23: ก. | B23: สำหรับเจ้าหน้าที่หน่วยงานผู้รับพัสดุ | K23: ข. | L23: สำหรับเจ้าหน้าที่หน่วยงานผู้ทำสัญญา
P24: ปีงบประมาณ | T24: 2570
B25: ข้าพเจ้าได้รับพัสดุ / งานจ้าง ที่คณะกรรม | K25: รายการ | U25: รหัส
A26: การตรวจรับพัสดุตามส่วนที่ 1 ไว้ถูกต้องครบ | K26: แผนงาน | M26: ยุทธศาสตร์พัฒนาด้านคมนาคม
A27: ถ้วนแล้ว | M27: และระบบโลจิสติกส์
K28: รหัสศูนย์ต้นทุน | U28: =พ101!E65 -> 0800600111
K29: รหัสแหล่งของเงิน | U29: =พ101!G65 -> 7011320
A30: (ลงนาม) | K30: รายการผูกพันงบประมาณ | U30: 1208
C31: =พ101!D59 -> (นางสาวปุณยวีร์ เชิงแก้ว) | K31: รหัสกิจกรรมหลัก | U31: =พ101!H65 -> 08006700211100000
A32: ตำแหน่ง | C32: =พ101!D60 -> นักจัดการงานทั่วไปปฏิบัติการ | K32: รหัสงบประมาณ | U32: =พ101!L65 -> 08006210006003210143
A33: วันที่ | B33: 11 | C33: เดือน | E33: =L13 -> พฤศจิกายน | G33: พ.ศ. | H33: =S13 -> 2569 | K33: เลขที่เอกสารสำรองเงิน
K34: จำนวนเงิน | U34: =พ101!K56 -> 85240 | Y34: บาท
K35: เลขที่ GF | S35: ลงวันที่ | U35: =S3 -> 46331
K36: เลขที่ PO | N36: =I3 -> 415/60/70/21
A37: จัดทำ 3 ฉบับ | E37: ฉบับที่ | G37: 1 | I37: หน่วยงานผู้เบิก - จ่ายเงิน
E38: ฉบับที่ | G38: 2 | I38: หน่วยงานพัสดุไว้ลงบัญชีวัสดุ / ทะเบียนครุภัณฑ์
E39: ฉบับที่ | G39: 3 | I39: ผู้ขาย / ผู้รับจ้าง

Sheet พิจารณา
C2: บันทึกข้อความ
A4: ส่วนราชการ | B4: แขวงทางหลวงสมุทรสาคร ฝ่ายบริหารงานทั่วไป | K4: โทร. 0 2420 1406 ต่อ 116
A5: ที่ | B5: สทล.13 ขท.สมุทรสาคร./พ./- | F5: วันที่ | I5: =พ101!J58 -> 46331
A6: เรื่อง | B6: ขอให้พิจารณา ราคาวัสดุ
A7: เรียน | B7: คณะกรรมการฯ พิจารณากลั่นกรองความเหมาะสมราคา
B8: ตามที่ หมวดทางหลวงเศรษฐกิจ ได้เบิกวัสดุ ตามบันทึกที่ ศก.1056/69 ลงวันที่ 28 ตุลาคม 2569 งานพัสดุและสัญญา
A9: ขอให้คณะกรรมการฯ พิจารณาความเหมาะสมของราคาดังกล่าวด้วยหากเห็นชอบขอได้โปรดลงนาม เพื่อใช้เป็นราคาในการจัดซื้อต่อไป
A10: ตามรายการ ดังนี้
A11: ลำดับ | B11: รายการวัสดุ | J11: ราคาเดิม | L11: ราคาปัจจุบัน | N11: หมายเหตุ
A12: =พ101!A19 -> 1 | B12: =พ101!E19 -> สีน้ำพลาสติก สีขาว จุ 3.785 ลิตร มอก.272-2564 | H12: / | I12: =พ101!C19 -> กป. | J12: =พ101!J19 -> 610 | L12: =พ101!L19 -> 610
A13: =พ101!A20 -> 2 | B13: =พ101!E20 -> สีน้ำพลาสติก สีดำ จุ 3.785 ลิตร มอก.272-2564 | H13: / | I13: =พ101!C20 -> กป. | J13: =พ101!J20 -> 610 | L13: =พ101!L20 -> 610
A14: =พ101!A21 -> 3 | B14: =พ101!E21 -> สีน้ำพลาสติก สีแดง จุ 3.785 ลิตร มอก.272-2564 | H14: / | I14: =พ101!C21 -> กป. | J14: =พ101!J21 -> 610 | L14: =พ101!L21 -> 610
A15: =พ101!A22 -> 4 | B15: =พ101!E22 -> สีน้ำพลาสติก สีเหลือง จุ 3.785 ลิตร มอก.272-2564 | H15: / | I15: =พ101!C22 -> กป. | J15: =พ101!J22 -> 610 | L15: =พ101!L22 -> 610
A16: =พ101!A23 -> 5 | B16: =พ101!E23 -> แปรงทาสี ขนาด 3 นิ้ว | H16: / | I16: =พ101!C23 -> อัน | J16: =พ101!J23 -> 85 | L16: =พ101!L23 -> 85
A17: =พ101!A24 -> 6 | B17: =พ101!E24 -> แปรงทาสี ขนาด 4 นิ้ว | H17: / | I17: =พ101!C24 -> อัน | J17: =พ101!J24 -> 105 | L17: =พ101!L24 -> 105
B18: =พ101!E25 -> (รวมหกรายการ)
A27: จึงเรียนมาเพื่อโปรดพิจารณาดำเนินการต่อไป
K28: =พ101!D59 -> (นางสาวปุณยวีร์ เชิงแก้ว)
K29: =พ101!D60 -> นักจัดการงานทั่วไปปฏิบัติการ
A30: คณะกรรมการฯ พิจารณาแล้ว ราคามีความเหมาะสม ดำเนินการต่อไป
A32: ลงชื่อ | B32: .................................................................................. | E32: ประธานกรรมการฯ
B33: ='พ128 1'!R16 -> รอ.ขท.สมุทรสาคร (ป)
A35: ลงชื่อ | B35: ............................................................................... | E35: กรรมการฯ
B36: =พ101!B14 -> ชม.ขท.เศรษฐกิจ
A38: ลงชื่อ | B38: .............................................................................. | E38: กรรมการฯ | J38: - | K38: คณะกรรมการฯ, คุณปุณยวีร์
B39: ="("&พ101!B15&")" -> (นายธีรพล แก่นคลอองใหม่) | J39: - | K39: เห็นชอบดำเนินการตามระเบียบต่อไป
K42: =พ101!G80 -> (นายสุปรีชา ฟุ้งกีรติ)
K43: =พ101!G81 -> ผอ.ขท.สมุทรสาคร
